Workbook

Sheet Balance Sheet
A1: Balance Sheet | B1: Amount in Thousands
A2: Assets
A3: Current Assets
A4: Cash and Bank Balances | B4: 100000
A5: Accounts Receivable | B5: 50000
A6: Inventory | B6: 50000
A7: Short Term Investments | B7: 100000
A8: Short Term Loan and Advances | B8: 100000
A9: Short Term Deposits | B9: 100000
A10: Prepayments | B10: 100000
A11: Office/Store Supplies | B11: 100000
A12: Other Current Assets | B12: 10000
A13: Total Current Assets | B13: =SUM(B4:B12) -> 710000
A14: Fixed Assets
A15: Land | B15: 300000
A16: Plant & Building | B16: 200000
A17: Machinery & Equipment | B17: 100000
A18: Long Term Investments | B18: 100000
A19: Long Term Advances | B19: 100000
A20: Long Term Deposits | B20: 25000
A21: Intangible Assets | B21: 25000
A22: Other Fixed Assets | B22: 10000
A23: Total Fixed Assets | B23: =SUM(B15:B22) -> 860000
A24: Total Assets | B24: =B13+B23 -> 1570000
A25: Liabilities & Equity
A26: Current Liabilities
A27: Accounts Payable | B27: 50000
A28: Accrued Expenses | B28: 100000
A29: Unearned Income | B29: 100000
A30: Short Term Portion of Long Term Liability | B30: 100000
A31: Short Term Debt | B31: 100000
A32: Other Current Liabilities | B32: 10000
A33: Total Current Liabilities | B33: =SUM(B27:B32) -> 460000
A34: Long Term Liabilities
A35: Long Term Debts | B35: 200000
A36: Commitments Under Finance Lease | B36: 100000
A37: Other Long Term Liabilities | B37: 10000
A38: Total Long Term Liabilities | B38: =SUM(B35:B37) -> 310000
A39: Total Liabilities | B39: =B38+B33 -> 770000
A40: Equities
...

Sheet Income Statement
A1: Income Statement | B1: Amount in Thousands
A2: Net Sales | B2: 200000
A3: Less: Cost of Goods Sold | B3: 100000
A4: Gross Profit | B4: =B2-B3 -> 100000
A5: Less: Operating Expenses
A6: Administrative Expenses | B6: 5000
A7: Selling, Marketing & Distribution Expenses | B7: 5000
A8: Salaries Expense | B8: 5000
A9: Depreciation Expense | B9: 4000
A10: Other Expenses | B10: 1000
A11: Total Operating Expenses | B11: =SUM(B6:B10) -> 20000
A12: Other Income | B12: 20000
A13: Operating Income | B13: =B4-B11+B12 -> 100000
A14: Less: Interest Expense | B14: 20000
A15: Profit Before Tax | B15: =B13-B14 -> 80000
A16: Less: Tax | B16: 12000
A17: Profit After Tax | B17: =B15-B16 -> 68000

Sheet Ratio Analysis
A1: Liquidity Ratios
A2: Cash Ratio | B2: ='Balance Sheet'!B4/'Balance Sheet'!B33 -> 0.2173913
A3: Operating Cash Flow Ratio | B3: =('Price Multiples'!B6/1000)/'Balance Sheet'!B33 -> 0.10869565
A4: Current Ratio | B4: ='Balance Sheet'!B13/'Balance Sheet'!B33 -> 1.5434783
A5: Quick Ratio | B5: =('Balance Sheet'!B13-'Balance Sheet'!B6)/'Balance Sheet'!B33 -> 1.4347826
A7: Leverage Ratios
A8: Debt to Equity Ratio | B8: ='Balance Sheet'!B39/'Balance Sheet'!B44 -> 0.9625
A9: Debt to Assets Ratio | B9: ='Balance Sheet'!B39/'Balance Sheet'!B24 -> 0.49044586
A10: Times Interest Earned Ratio | B10: ='Income Statement'!B13/'Income Statement'!B14 -> 5
A11: EBITDA to Interest Ratio | B11: =('Income Statement'!B13+'Income Statement'!B8)/'Income Statement'!B14 -> 5.25
A13: Operating Leverage
A14: Net Sales in Current Period | B14: ='Income Statement'!B2 -> 200000
A15: Net Sales in Previous Period | B15: 180000
A16: % Change in Net Sales | B16: =(B14-B15)/B15 -> 0.11111111
A17: EBIT in Current Period | B17: ='Income Statement'!B13 -> 100000
A18: EBIT in Previous Period | B18: 60000
A19: % Change in EBIT | B19: =(B17-B18)/B18 -> 0.66666667
A21: Operating Leverage | B21: =B19/B16 -> 6
A23: Financial Leverage
A24: Net Income in Current Period | B24: ='Income Statement'!B17 -> 68000
A25: Net Income in Previous Period | B25: 25000
A26: % Change in Net Income | B26: =(B24-B25)/B25 -> 1.72
A28: Financial Leverage | B28: =B26/B19 -> 2.58
A30: Total Leverage | B30: =B26/B16 -> 15.48
A32: Profitability Ratios
A33: Gross Profit Margin | B33: ='Income Statement'!B4/'Income Statement'!B2 -> 0.5
A34: Operating Cost Ratio | B34: ='Income Statement'!B11/'Income Statement'!B2 -> 0.1
A35: Operating Profit Margin | B35: ='Income Statement'!B13/'Income Statement'!B2 -> 0.5
A36: Net Profit Margin | B36: ='Income Statement'!B17/'Income Statement'!B2 -> 0.34
A37: Return on Assets | B37: ='Income Statement'!B17/'Balance Sheet'!B24 -> 0.043312102
A38: Return on Equity | B38: ='Income Statement'!B17/'Balance Sheet'!B44 -> 0.085
A39: Return on Capital Employed | B39: ='Income Statement'!B13/('Balance Sheet'!B24-'Balance Sheet'!B33) -> 0.09009009
A40: Capital Turnover Ratio | B40: ='Income Statement'!B2/('Balance Sheet'!B24-'Balance Sheet'!B33) -> 0.18018018
A41: NWC Turnover Ratio | B41: ='Income Statement'!B2/('Balance Sheet'!B13-'Balance Sheet'!B33) -> 0.8
A42: Cash Flow Return on Assets | B42: =('Income Statement'!B17+'Income Statement'!B8)/'Balance Sheet'!B24 -> 0.046496815
A43: Cash Flow from Operations Ratio | B43: =('Price Multiples'!B6/1000)/'Income Statement'!B17 -> 0.73529412
A45: Asset Turnover Ratios
A46: Fixed Asset turnover | B46: ='Income Statement'!B2/'Balance Sheet'!B23 -> 0.23255814
A47: Total Asset Turnover | B47: ='Income Statement'!B2/'Balance Sheet'!B24 -> 0.12738854
A48: Capital Turnover Ratio | B48: ='Income Statement'!B3/('Balance Sheet'!B24-'Balance Sheet'!B33) -> 0.09009009
...

Sheet Price Multiples
A1: Input Figures | B1: Amount in Actual
A2: Price Per Share at Period End | B2: 20
A3: Number of Shares Outstanding | B3: 60000000
A4: Net Sales | B4: ='Income Statement'!B2*1000 -> 200000000
A5: Profit After Tax | B5: ='Income Statement'!B17*1000 -> 68000000
A6: Operating Cash Flow | B6: 50000000
A7: Total Assets | B7: ='Balance Sheet'!B24*1000 -> 1570000000
A8: Total Liabilities | B8: ='Balance Sheet'!B39*1000 -> 770000000
A9: EBIT | B9: ='Income Statement'!B13*1000 -> 100000000
A10: Depreciation | B10: ='Income Statement'!B8*1000 -> 5000000
A11: Dividend Per Share | B11: 1
A12: Average Growth in ROCE in 5 Years | B12: 0.05
A13: g=ROEx(1-DPO) | B13: ='Ratio Analysis'!B38*B21 -> 0.01
A14: g=ROCEx(1-DPO) | B14: ='Ratio Analysis'!B39*'Price Multiples'!B21 -> 0.010598834
A15: Internal Growth Rate g= ROAxb/1-ROAxb | B15: =('Price Multiples'!B37*'Price Multiples'!B21)/(1-('Price Multiples'!B37*'Price Multiples'!B21)) -> 0.0083036773
A16: Sustainable Growth Rate g=ROExb/1-ROExb | B16: =('Price Multiples'!B38*'Price Multiples'!B21)/(1-('Price Multiples'!B38*'Price Multiples'!B21)) -> 0.012131955
A18: EPS | B18: =B5/B3 -> 1.1333333
A19: Dividend Yield | B19: =B11/B2 -> 0.05
A20: Dividend Payout Ratio | B20: =B11/B18 -> 0.88235294
A21: Retention Ratio | B21: =1-B20 -> 0.11764706
A22: Book Value Per share | B22: =(B7-B8)/B3 -> 13.333333
A23: Net Sales per Share | B23: =B4/B3 -> 3.3333333
A24: Operating Cash Flow Per Share | B24: =B6/B3 -> 0.83333333
A25: EBITDA Per Share | B25: =(B9+B10)/B3 -> 1.75
A27: Price / EPS | B27: =B2/B18 -> 17.647059
A28: Price / Book Value Per share | B28: =B2/B22 -> 1.5
A29: Price / Sales per Share | B29: =B2/B23 -> 6
A30: Price / Net Cash Flow Per Share | B30: =B2/B24 -> 24
A31: Price / EBITDA Per Share | B31: =B2/B25 -> 11.428571
A34: Weighted Average Cost of Capital
A35: Total Debt | B35: ='Balance Sheet'!B39*1000 -> 770000000
A36: Total Equities | B36: ='Balance Sheet'!B44*1000 -> 800000000
A37: Cost of Debt | B37: 0.07
A38: Cost of Equity - CAPM Approach | B38: ='Stock Beta'!B68:E68 -> 0.10188555
A39: Cost of Equity - DDM | B39: =((B11*(1+B12))/B2)+B12 -> 0.1025
A40: WACC - CAPM Approach | B40: =((B35/(B35+B36))*B37)+((B36/(B35+B36))*B38) -> 0.086247412
A41: WACC - DDM Approach | B41: =((B35/(B35+B36)*B37)+((B36/(B35+B36))*B39)) -> 0.08656051
A43: Market Value Added
A44: Market Capitalization | B44: =B2*B3 -> 1200000000
A45: Book Value of Firm | B45: =B7-B8 -> 800000000
...

Sheet Common Size Analysis - BS
A1: Balance Sheet | B1: 2018 | C1: 2019 | D1: 2020 | E1: 2021 | F1: 2022 | H1: 2018 | I1: 2019 | J1: 2020 | K1: 2021 | L1: 2022
A2: Assets
A3: Current Assets
A4: Cash and Bank Balances | B4: 100000 | C4: 110000 | D4: 121000 | E4: 133100 | F4: 146410 | H4: =B4/$B$24 -> 0.063694268 | I4: =C4/$C$24 -> 0.063694268 | J4: =D4/$D$24 -> 0.063694268 | K4: =E4/$E$24 -> 0.063694268 | L4: =F4/$F$24 -> 0.063694268
A5: Accounts Receivable | B5: 50000 | C5: 55000 | D5: 60500 | E5: 66550 | F5: 73205 | H5: =B5/$B$24 -> 0.031847134 | I5: =C5/$C$24 -> 0.031847134 | J5: =D5/$D$24 -> 0.031847134 | K5: =E5/$E$24 -> 0.031847134 | L5: =F5/$F$24 -> 0.031847134
A6: Inventory | B6: 50000 | C6: 55000 | D6: 60500 | E6: 66550 | F6: 73205 | H6: =B6/$B$24 -> 0.031847134 | I6: =C6/$C$24 -> 0.031847134 | J6: =D6/$D$24 -> 0.031847134 | K6: =E6/$E$24 -> 0.031847134 | L6: =F6/$F$24 -> 0.031847134
A7: Short Term Investments | B7: 100000 | C7: 110000 | D7: 121000 | E7: 133100 | F7: 146410 | H7: =B7/$B$24 -> 0.063694268 | I7: =C7/$C$24 -> 0.063694268 | J7: =D7/$D$24 -> 0.063694268 | K7: =E7/$E$24 -> 0.063694268 | L7: =F7/$F$24 -> 0.063694268
A8: Short Term Loan and Advances | B8: 100000 | C8: 110000 | D8: 121000 | E8: 133100 | F8: 146410 | H8: =B8/$B$24 -> 0.063694268 | I8: =C8/$C$24 -> 0.063694268 | J8: =D8/$D$24 -> 0.063694268 | K8: =E8/$E$24 -> 0.063694268 | L8: =F8/$F$24 -> 0.063694268
A9: Short Term Deposits | B9: 100000 | C9: 110000 | D9: 121000 | E9: 133100 | F9: 146410 | H9: =B9/$B$24 -> 0.063694268 | I9: =C9/$C$24 -> 0.063694268 | J9: =D9/$D$24 -> 0.063694268 | K9: =E9/$E$24 -> 0.063694268 | L9: =F9/$F$24 -> 0.063694268
A10: Prepayments | B10: 100000 | C10: 110000 | D10: 121000 | E10: 133100 | F10: 146410 | H10: =B10/$B$24 -> 0.063694268 | I10: =C10/$C$24 -> 0.063694268 | J10: =D10/$D$24 -> 0.063694268 | K10: =E10/$E$24 -> 0.063694268 | L10: =F10/$F$24 -> 0.063694268
A11: Office/Store Supplies | B11: 100000 | C11: 110000 | D11: 121000 | E11: 133100 | F11: 146410 | H11: =B11/$B$24 -> 0.063694268 | I11: =C11/$C$24 -> 0.063694268 | J11: =D11/$D$24 -> 0.063694268 | K11: =E11/$E$24 -> 0.063694268 | L11: =F11/$F$24 -> 0.063694268
A12: Other Current Assets | B12: 10000 | C12: 11000 | D12: 12100 | E12: 13310 | F12: 14641 | H12: =B12/$B$24 -> 0.0063694268 | I12: =C12/$C$24 -> 0.0063694268 | J12: =D12/$D$24 -> 0.0063694268 | K12: =E12/$E$24 -> 0.0063694268 | L12: =F12/$F$24 -> 0.0063694268
A13: Total Current Assets | B13: =SUM(B4:B12) -> 710000 | C13: =SUM(C4:C12) -> 781000 | D13: =SUM(D4:D12) -> 859100 | E13: =SUM(E4:E12) -> 945010 | F13: =SUM(F4:F12) -> 1039511 | H13: =B13/$B$24 -> 0.4522293 | I13: =C13/$C$24 -> 0.4522293 | J13: =D13/$D$24 -> 0.4522293 | K13: =E13/$E$24 -> 0.4522293 | L13: =F13/$F$24 -> 0.4522293
A14: Fixed Assets
A15: Land | B15: 300000 | C15: 330000 | D15: 363000 | E15: 399300 | F15: 439230 | H15: =B15/$B$24 -> 0.1910828 | I15: =C15/$C$24 -> 0.1910828 | J15: =D15/$D$24 -> 0.1910828 | K15: =E15/$E$24 -> 0.1910828 | L15: =F15/$F$24 -> 0.1910828
A16: Plant & Building | B16: 200000 | C16: 220000 | D16: 242000 | E16: 266200 | F16: 292820 | H16: =B16/$B$24 -> 0.12738854 | I16: =C16/$C$24 -> 0.12738854 | J16: =D16/$D$24 -> 0.12738854 | K16: =E16/$E$24 -> 0.12738854 | L16: =F16/$F$24 -> 0.12738854
A17: Machinery & Equipment | B17: 100000 | C17: 110000 | D17: 121000 | E17: 133100 | F17: 146410 | H17: =B17/$B$24 -> 0.063694268 | I17: =C17/$C$24 -> 0.063694268 | J17: =D17/$D$24 -> 0.063694268 | K17: =E17/$E$24 -> 0.063694268 | L17: =F17/$F$24 -> 0.063694268
A18: Long Term Investments | B18: 100000 | C18: 110000 | D18: 121000 | E18: 133100 | F18: 146410 | H18: =B18/$B$24 -> 0.063694268 | I18: =C18/$C$24 -> 0.063694268 | J18: =D18/$D$24 -> 0.063694268 | K18: =E18/$E$24 -> 0.063694268 | L18: =F18/$F$24 -> 0.063694268
A19: Long Term Advances | B19: 100000 | C19: 110000 | D19: 121000 | E19: 133100 | F19: 146410 | H19: =B19/$B$24 -> 0.063694268 | I19: =C19/$C$24 -> 0.063694268 | J19: =D19/$D$24 -> 0.063694268 | K19: =E19/$E$24 -> 0.063694268 | L19: =F19/$F$24 -> 0.063694268
A20: Long Term Deposits | B20: 25000 | C20: 27500 | D20: 30250 | E20: 33275 | F20: 36602.5 | H20: =B20/$B$24 -> 0.015923567 | I20: =C20/$C$24 -> 0.015923567 | J20: =D20/$D$24 -> 0.015923567 | K20: =E20/$E$24 -> 0.015923567 | L20: =F20/$F$24 -> 0.015923567
A21: Intangible Assets | B21: 25000 | C21: 27500 | D21: 30250 | E21: 33275 | F21: 36602.5 | H21: =B21/$B$24 -> 0.015923567 | I21: =C21/$C$24 -> 0.015923567 | J21: =D21/$D$24 -> 0.015923567 | K21: =E21/$E$24 -> 0.015923567 | L21: =F21/$F$24 -> 0.015923567
A22: Other Fixed Assets | B22: 10000 | C22: 11000 | D22: 12100 | E22: 13310 | F22: 14641 | H22: =B22/$B$24 -> 0.0063694268 | I22: =C22/$C$24 -> 0.0063694268 | J22: =D22/$D$24 -> 0.0063694268 | K22: =E22/$E$24 -> 0.0063694268 | L22: =F22/$F$24 -> 0.0063694268
A23: Total Fixed Assets | B23: 860000 | C23: 946000 | D23: 1040600 | E23: 1144660 | F23: 1259126 | H23: =B23/$B$24 -> 0.5477707 | I23: =C23/$C$24 -> 0.5477707 | J23: =D23/$D$24 -> 0.5477707 | K23: =E23/$E$24 -> 0.5477707 | L23: =F23/$F$24 -> 0.5477707
A24: Total Assets | B24: =B13+B23 -> 1570000 | C24: =C13+C23 -> 1727000 | D24: =D13+D23 -> 1899700 | E24: =E13+E23 -> 2089670 | F24: =F13+F23 -> 2298637 | H24: =B24/$B$24 -> 1 | I24: =C24/$C$24 -> 1 | J24: =D24/$D$24 -> 1 | K24: =E24/$E$24 -> 1 | L24: =F24/$F$24 -> 1
A25: Liabilities & Equity
A26: Current Liabilities
A27: Accounts Payable | B27: 50000 | C27: 55000 | D27: 60500 | E27: 66550 | F27: 73205 | H27: =B27/$B$24 -> 0.031847134 | I27: =C27/$C$24 -> 0.031847134 | J27: =D27/$D$24 -> 0.031847134 | K27: =E27/$E$24 -> 0.031847134 | L27: =F27/$F$24 -> 0.031847134
A28: Accrued Expenses | B28: 100000 | C28: 110000 | D28: 121000 | E28: 133100 | F28: 146410 | H28: =B28/$B$24 -> 0.063694268 | I28: =C28/$C$24 -> 0.063694268 | J28: =D28/$D$24 -> 0.063694268 | K28: =E28/$E$24 -> 0.063694268 | L28: =F28/$F$24 -> 0.063694268
A29: Unearned Income | B29: 100000 | C29: 110000 | D29: 121000 | E29: 133100 | F29: 146410 | H29: =B29/$B$24 -> 0.063694268 | I29: =C29/$C$24 -> 0.063694268 | J29: =D29/$D$24 -> 0.063694268 | K29: =E29/$E$24 -> 0.063694268 | L29: =F29/$F$24 -> 0.063694268
A30: Short Term Portion of Long Term Liability | B30: 100000 | C30: 110000 | D30: 121000 | E30: 133100 | F30: 146410 | H30: =B30/$B$24 -> 0.063694268 | I30: =C30/$C$24 -> 0.063694268 | J30: =D30/$D$24 -> 0.063694268 | K30: =E30/$E$24 -> 0.063694268 | L30: =F30/$F$24 -> 0.063694268
A31: Short Term Debt | B31: 100000 | C31: 110000 | D31: 121000 | E31: 133100 | F31: 146410 | H31: =B31/$B$24 -> 0.063694268 | I31: =C31/$C$24 -> 0.063694268 | J31: =D31/$D$24 -> 0.063694268 | K31: =E31/$E$24 -> 0.063694268 | L31: =F31/$F$24 -> 0.063694268
A32: Other Current Liabilities | B32: 10000 | C32: 11000 | D32: 12100 | E32: 13310 | F32: 14641 | H32: =B32/$B$24 -> 0.0063694268 | I32: =C32/$C$24 -> 0.0063694268 | J32: =D32/$D$24 -> 0.0063694268 | K32: =E32/$E$24 -> 0.0063694268 | L32: =F32/$F$24 -> 0.0063694268
A33: Total Current Liabilities | B33: =SUM(B27:B32) -> 460000 | C33: =SUM(C27:C32) -> 506000 | D33: =SUM(D27:D32) -> 556600 | E33: =SUM(E27:E32) -> 612260 | F33: =SUM(F27:F32) -> 673486 | H33: =B33/$B$24 -> 0.29299363 | I33: =C33/$C$24 -> 0.29299363 | J33: =D33/$D$24 -> 0.29299363 | K33: =E33/$E$24 -> 0.29299363 | L33: =F33/$F$24 -> 0.29299363
A34: Long Term Liabilities
A35: Long Term Debts | B35: 200000 | C35: 220000 | D35: 242000 | E35: 266200 | F35: 292820 | H35: =B35/$B$24 -> 0.12738854 | I35: =C35/$C$24 -> 0.12738854 | J35: =D35/$D$24 -> 0.12738854 | K35: =E35/$E$24 -> 0.12738854 | L35: =F35/$F$24 -> 0.12738854
A36: Commitments Under Finance Lease | B36: 100000 | C36: 110000 | D36: 121000 | E36: 133100 | F36: 146410 | H36: =B36/$B$24 -> 0.063694268 | I36: =C36/$C$24 -> 0.063694268 | J36: =D36/$D$24 -> 0.063694268 | K36: =E36/$E$24 -> 0.063694268 | L36: =F36/$F$24 -> 0.063694268
A37: Other Long Term Liabilities | B37: 10000 | C37: 11000 | D37: 12100 | E37: 13310 | F37: 14641 | H37: =B37/$B$24 -> 0.0063694268 | I37: =C37/$C$24 -> 0.0063694268 | J37: =D37/$D$24 -> 0.0063694268 | K37: =E37/$E$24 -> 0.0063694268 | L37: =F37/$F$24 -> 0.0063694268
A38: Total Long Term Liabilities | B38: =SUM(B35:B37) -> 310000 | C38: =SUM(C35:C37) -> 341000 | D38: =SUM(D35:D37) -> 375100 | E38: =SUM(E35:E37) -> 412610 | F38: =SUM(F35:F37) -> 453871 | H38: =B38/$B$24 -> 0.19745223 | I38: =C38/$C$24 -> 0.19745223 | J38: =D38/$D$24 -> 0.19745223 | K38: =E38/$E$24 -> 0.19745223 | L38: =F38/$F$24 -> 0.19745223
A39: Total Liabilities | B39: =B33+B38 -> 770000 | C39: =C33+C38 -> 847000 | D39: =D33+D38 -> 931700 | E39: =E33+E38 -> 1024870 | F39: =F33+F38 -> 1127357 | H39: =B39/$B$24 -> 0.49044586 | I39: =C39/$C$24 -> 0.49044586 | J39: =D39/$D$24 -> 0.49044586 | K39: =E39/$E$24 -> 0.49044586 | L39: =F39/$F$24 -> 0.49044586
A40: Equities
...

Sheet Index Analysis - BS
A1: Balance Sheet | B1: 2018 | C1: 2019 | D1: 2020 | E1: 2021 | F1: 2022 | H1: 2018 | I1: 2019 | J1: 2020 | K1: 2021 | L1: 2022
A2: Assets
A3: Current Assets
A4: Cash and Bank Balances | B4: 100000 | C4: 110000 | D4: 121000 | E4: 133100 | F4: 146410 | H4: =B4/B4 -> 1 | I4: =C4/$B4 -> 1.1 | J4: =D4/$B4 -> 1.21 | K4: =E4/$B4 -> 1.331 | L4: =F4/$B4 -> 1.4641
A5: Accounts Receivable | B5: 50000 | C5: 55000 | D5: 60500 | E5: 66550 | F5: 73205 | H5: =B5/B5 -> 1 | I5: =C5/$B5 -> 1.1 | J5: =D5/$B5 -> 1.21 | K5: =E5/$B5 -> 1.331 | L5: =F5/$B5 -> 1.4641
A6: Inventory | B6: 50000 | C6: 55000 | D6: 60500 | E6: 66550 | F6: 73205 | H6: =B6/B6 -> 1 | I6: =C6/$B6 -> 1.1 | J6: =D6/$B6 -> 1.21 | K6: =E6/$B6 -> 1.331 | L6: =F6/$B6 -> 1.4641
A7: Short Term Investments | B7: 100000 | C7: 110000 | D7: 121000 | E7: 133100 | F7: 146410 | H7: =B7/B7 -> 1 | I7: =C7/$B7 -> 1.1 | J7: =D7/$B7 -> 1.21 | K7: =E7/$B7 -> 1.331 | L7: =F7/$B7 -> 1.4641
A8: Short Term Loan and Advances | B8: 100000 | C8: 110000 | D8: 121000 | E8: 133100 | F8: 146410 | H8: =B8/B8 -> 1 | I8: =C8/$B8 -> 1.1 | J8: =D8/$B8 -> 1.21 | K8: =E8/$B8 -> 1.331 | L8: =F8/$B8 -> 1.4641
A9: Short Term Deposits | B9: 100000 | C9: 110000 | D9: 121000 | E9: 133100 | F9: 146410 | H9: =B9/B9 -> 1 | I9: =C9/$B9 -> 1.1 | J9: =D9/$B9 -> 1.21 | K9: =E9/$B9 -> 1.331 | L9: =F9/$B9 -> 1.4641
A10: Prepayments | B10: 100000 | C10: 110000 | D10: 121000 | E10: 133100 | F10: 146410 | H10: =B10/B10 -> 1 | I10: =C10/$B10 -> 1.1 | J10: =D10/$B10 -> 1.21 | K10: =E10/$B10 -> 1.331 | L10: =F10/$B10 -> 1.4641
A11: Office/Store Supplies | B11: 100000 | C11: 110000 | D11: 121000 | E11: 133100 | F11: 146410 | H11: =B11/B11 -> 1 | I11: =C11/$B11 -> 1.1 | J11: =D11/$B11 -> 1.21 | K11: =E11/$B11 -> 1.331 | L11: =F11/$B11 -> 1.4641
A12: Other Current Assets | B12: 10000 | C12: 11000 | D12: 12100 | E12: 13310 | F12: 14641 | H12: =B12/B12 -> 1 | I12: =C12/$B12 -> 1.1 | J12: =D12/$B12 -> 1.21 | K12: =E12/$B12 -> 1.331 | L12: =F12/$B12 -> 1.4641
A13: Total Current Assets | B13: =SUM(B4:B12) -> 710000 | C13: =SUM(C4:C12) -> 781000 | D13: =SUM(D4:D12) -> 859100 | E13: =SUM(E4:E12) -> 945010 | F13: =SUM(F4:F12) -> 1039511 | H13: =B13/B13 -> 1 | I13: =C13/$B13 -> 1.1 | J13: =D13/$B13 -> 1.21 | K13: =E13/$B13 -> 1.331 | L13: =F13/$B13 -> 1.4641
A14: Fixed Assets
A15: Land | B15: 300000 | C15: 330000 | D15: 363000 | E15: 399300 | F15: 439230 | H15: =B15/B15 -> 1 | I15: =C15/$B15 -> 1.1 | J15: =D15/$B15 -> 1.21 | K15: =E15/$B15 -> 1.331 | L15: =F15/$B15 -> 1.4641
A16: Plant & Building | B16: 200000 | C16: 220000 | D16: 242000 | E16: 266200 | F16: 292820 | H16: =B16/B16 -> 1 | I16: =C16/$B16 -> 1.1 | J16: =D16/$B16 -> 1.21 | K16: =E16/$B16 -> 1.331 | L16: =F16/$B16 -> 1.4641
A17: Machinery & Equipment | B17: 100000 | C17: 110000 | D17: 121000 | E17: 133100 | F17: 146410 | H17: =B17/B17 -> 1 | I17: =C17/$B17 -> 1.1 | J17: =D17/$B17 -> 1.21 | K17: =E17/$B17 -> 1.331 | L17: =F17/$B17 -> 1.4641
A18: Long Term Investments | B18: 100000 | C18: 110000 | D18: 121000 | E18: 133100 | F18: 146410 | H18: =B18/B18 -> 1 | I18: =C18/$B18 -> 1.1 | J18: =D18/$B18 -> 1.21 | K18: =E18/$B18 -> 1.331 | L18: =F18/$B18 -> 1.4641
A19: Long Term Advances | B19: 100000 | C19: 110000 | D19: 121000 | E19: 133100 | F19: 146410 | H19: =B19/B19 -> 1 | I19: =C19/$B19 -> 1.1 | J19: =D19/$B19 -> 1.21 | K19: =E19/$B19 -> 1.331 | L19: =F19/$B19 -> 1.4641
A20: Long Term Deposits | B20: 25000 | C20: 27500 | D20: 30250 | E20: 33275 | F20: 36602.5 | H20: =B20/B20 -> 1 | I20: =C20/$B20 -> 1.1 | J20: =D20/$B20 -> 1.21 | K20: =E20/$B20 -> 1.331 | L20: =F20/$B20 -> 1.4641
A21: Intangible Assets | B21: 25000 | C21: 27500 | D21: 30250 | E21: 33275 | F21: 36602.5 | H21: =B21/B21 -> 1 | I21: =C21/$B21 -> 1.1 | J21: =D21/$B21 -> 1.21 | K21: =E21/$B21 -> 1.331 | L21: =F21/$B21 -> 1.4641
A22: Other Fixed Assets | B22: 10000 | C22: 11000 | D22: 12100 | E22: 13310 | F22: 14641 | H22: =B22/B22 -> 1 | I22: =C22/$B22 -> 1.1 | J22: =D22/$B22 -> 1.21 | K22: =E22/$B22 -> 1.331 | L22: =F22/$B22 -> 1.4641
A23: Total Fixed Assets | B23: 860000 | C23: 946000 | D23: 1040600 | E23: 1144660 | F23: 1259126 | H23: =B23/B23 -> 1 | I23: =C23/$B23 -> 1.1 | J23: =D23/$B23 -> 1.21 | K23: =E23/$B23 -> 1.331 | L23: =F23/$B23 -> 1.4641
A24: Total Assets | B24: =B13+B23 -> 1570000 | C24: =C13+C23 -> 1727000 | D24: =D13+D23 -> 1899700 | E24: =E13+E23 -> 2089670 | F24: =F13+F23 -> 2298637 | H24: =B24/B24 -> 1 | I24: =C24/$B24 -> 1.1 | J24: =D24/$B24 -> 1.21 | K24: =E24/$B24 -> 1.331 | L24: =F24/$B24 -> 1.4641
A25: Liabilities & Equity
A26: Current Liabilities
A27: Accounts Payable | B27: 50000 | C27: 55000 | D27: 60500 | E27: 66550 | F27: 73205 | H27: =B27/B27 -> 1 | I27: =C27/$B27 -> 1.1 | J27: =D27/$B27 -> 1.21 | K27: =E27/$B27 -> 1.331 | L27: =F27/$B27 -> 1.4641
A28: Accrued Expenses | B28: 100000 | C28: 110000 | D28: 121000 | E28: 133100 | F28: 146410 | H28: =B28/B28 -> 1 | I28: =C28/$B28 -> 1.1 | J28: =D28/$B28 -> 1.21 | K28: =E28/$B28 -> 1.331 | L28: =F28/$B28 -> 1.4641
A29: Unearned Income | B29: 100000 | C29: 110000 | D29: 121000 | E29: 133100 | F29: 146410 | H29: =B29/B29 -> 1 | I29: =C29/$B29 -> 1.1 | J29: =D29/$B29 -> 1.21 | K29: =E29/$B29 -> 1.331 | L29: =F29/$B29 -> 1.4641
A30: Short Term Portion of Long Term Liability | B30: 100000 | C30: 110000 | D30: 121000 | E30: 133100 | F30: 146410 | H30: =B30/B30 -> 1 | I30: =C30/$B30 -> 1.1 | J30: =D30/$B30 -> 1.21 | K30: =E30/$B30 -> 1.331 | L30: =F30/$B30 -> 1.4641
A31: Short Term Debt | B31: 100000 | C31: 110000 | D31: 121000 | E31: 133100 | F31: 146410 | H31: =B31/B31 -> 1 | I31: =C31/$B31 -> 1.1 | J31: =D31/$B31 -> 1.21 | K31: =E31/$B31 -> 1.331 | L31: =F31/$B31 -> 1.4641
A32: Other Current Liabilities | B32: 10000 | C32: 11000 | D32: 12100 | E32: 13310 | F32: 14641 | H32: =B32/B32 -> 1 | I32: =C32/$B32 -> 1.1 | J32: =D32/$B32 -> 1.21 | K32: =E32/$B32 -> 1.331 | L32: =F32/$B32 -> 1.4641
A33: Total Current Liabilities | B33: =SUM(B27:B32) -> 460000 | C33: =SUM(C27:C32) -> 506000 | D33: =SUM(D27:D32) -> 556600 | E33: =SUM(E27:E32) -> 612260 | F33: =SUM(F27:F32) -> 673486 | H33: =B33/B33 -> 1 | I33: =C33/$B33 -> 1.1 | J33: =D33/$B33 -> 1.21 | K33: =E33/$B33 -> 1.331 | L33: =F33/$B33 -> 1.4641
A34: Long Term Liabilities
A35: Long Term Debts | B35: 200000 | C35: 220000 | D35: 242000 | E35: 266200 | F35: 292820 | H35: =B35/B35 -> 1 | I35: =C35/$B35 -> 1.1 | J35: =D35/$B35 -> 1.21 | K35: =E35/$B35 -> 1.331 | L35: =F35/$B35 -> 1.4641
A36: Commitments Under Finance Lease | B36: 100000 | C36: 110000 | D36: 121000 | E36: 133100 | F36: 146410 | H36: =B36/B36 -> 1 | I36: =C36/$B36 -> 1.1 | J36: =D36/$B36 -> 1.21 | K36: =E36/$B36 -> 1.331 | L36: =F36/$B36 -> 1.4641
A37: Other Long Term Liabilities | B37: 10000 | C37: 11000 | D37: 12100 | E37: 13310 | F37: 14641 | H37: =B37/B37 -> 1 | I37: =C37/$B37 -> 1.1 | J37: =D37/$B37 -> 1.21 | K37: =E37/$B37 -> 1.331 | L37: =F37/$B37 -> 1.4641
A38: Total Long Term Liabilities | B38: =SUM(B35:B37) -> 310000 | C38: =SUM(C35:C37) -> 341000 | D38: =SUM(D35:D37) -> 375100 | E38: =SUM(E35:E37) -> 412610 | F38: =SUM(F35:F37) -> 453871 | H38: =B38/B38 -> 1 | I38: =C38/$B38 -> 1.1 | J38: =D38/$B38 -> 1.21 | K38: =E38/$B38 -> 1.331 | L38: =F38/$B38 -> 1.4641
A39: Total Liabilities | B39: =B33+B38 -> 770000 | C39: =C33+C38 -> 847000 | D39: =D33+D38 -> 931700 | E39: =E33+E38 -> 1024870 | F39: =F33+F38 -> 1127357 | H39: =B39/B39 -> 1 | I39: =C39/$B39 -> 1.1 | J39: =D39/$B39 -> 1.21 | K39: =E39/$B39 -> 1.331 | L39: =F39/$B39 -> 1.4641
A40: Equities
...

Sheet Common Size Analysis - IS
A1: Income Statement | B1: 2018 | C1: 2019 | D1: 2020 | E1: 2021 | F1: 2022 | H1: 2018 | I1: 2019 | J1: 2020 | K1: 2021 | L1: 2022
A2: Net Sales | B2: 200000 | C2: 220000 | D2: 242000 | E2: 266200 | F2: 292820 | H2: =B2/$B$2 -> 1 | I2: =C2/$C$2 -> 1 | J2: =D2/$D$2 -> 1 | K2: =E2/$E$2 -> 1 | L2: =F2/$F$2 -> 1
A3: Less: Cost of Goods Sold | B3: 100000 | C3: 110000 | D3: 121000 | E3: 133100 | F3: 146410 | H3: =B3/$B$2 -> 0.5 | I3: =C3/$C$2 -> 0.5 | J3: =D3/$D$2 -> 0.5 | K3: =E3/$E$2 -> 0.5 | L3: =F3/$F$2 -> 0.5
A4: Gross Profit | B4: =B2-B3 -> 100000 | C4: =C2-C3 -> 110000 | D4: =D2-D3 -> 121000 | E4: =E2-E3 -> 133100 | F4: =F2-F3 -> 146410 | H4: =B4/$B$2 -> 0.5 | I4: =C4/$C$2 -> 0.5 | J4: =D4/$D$2 -> 0.5 | K4: =E4/$E$2 -> 0.5 | L4: =F4/$F$2 -> 0.5
A5: Less: Operating Expenses | B5: ='Income Statement'!B5 -> 0
A6: Administrative Expenses | B6: 5000 | C6: 5500 | D6: 6050 | E6: 6655 | F6: 7320.5 | H6: =B6/$B$2 -> 0.025 | I6: =C6/$C$2 -> 0.025 | J6: =D6/$D$2 -> 0.025 | K6: =E6/$E$2 -> 0.025 | L6: =F6/$F$2 -> 0.025
A7: Selling, Distribution & Marketing Expenses | B7: 5000 | C7: 5500 | D7: 6050 | E7: 6655 | F7: 7320.5 | H7: =B7/$B$2 -> 0.025 | I7: =C7/$C$2 -> 0.025 | J7: =D7/$D$2 -> 0.025 | K7: =E7/$E$2 -> 0.025 | L7: =F7/$F$2 -> 0.025
A8: Depreciation Expense | B8: 5000 | C8: 5500 | D8: 6050 | E8: 6655 | F8: 7320.5 | H8: =B8/$B$2 -> 0.025 | I8: =C8/$C$2 -> 0.025 | J8: =D8/$D$2 -> 0.025 | K8: =E8/$E$2 -> 0.025 | L8: =F8/$F$2 -> 0.025
A9: Rent Expense | B9: 4000 | C9: 4400 | D9: 4840 | E9: 5324 | F9: 5856.4 | H9: =B9/$B$2 -> 0.02 | I9: =C9/$C$2 -> 0.02 | J9: =D9/$D$2 -> 0.02 | K9: =E9/$E$2 -> 0.02 | L9: =F9/$F$2 -> 0.02
A10: Other Expenses | B10: 1000 | C10: 1100 | D10: 1210 | E10: 1331 | F10: 1464.1 | H10: =B10/$B$2 -> 0.005 | I10: =C10/$C$2 -> 0.005 | J10: =D10/$D$2 -> 0.005 | K10: =E10/$E$2 -> 0.005 | L10: =F10/$F$2 -> 0.005
A11: Total Operating Expenses | B11: =SUM(B6:B10) -> 20000 | C11: =SUM(C6:C10) -> 22000 | D11: =SUM(D6:D10) -> 24200 | E11: =SUM(E6:E10) -> 26620 | F11: =SUM(F6:F10) -> 29282 | H11: =B11/$B$2 -> 0.1 | I11: =C11/$C$2 -> 0.1 | J11: =D11/$D$2 -> 0.1 | K11: =E11/$E$2 -> 0.1 | L11: =F11/$F$2 -> 0.1
A12: Other Income | B12: 20000 | C12: 22000 | D12: 24200 | E12: 26620 | F12: 29282 | H12: =B12/$B$2 -> 0.1 | I12: =C12/$C$2 -> 0.1 | J12: =D12/$D$2 -> 0.1 | K12: =E12/$E$2 -> 0.1 | L12: =F12/$F$2 -> 0.1
A13: Operating Income | B13: =B4-B11+B12 -> 100000 | C13: =C4-C11+C12 -> 110000 | D13: =D4-D11+D12 -> 121000 | E13: =E4-E11+E12 -> 133100 | F13: =F4-F11+F12 -> 146410 | H13: =B13/$B$2 -> 0.5 | I13: =C13/$C$2 -> 0.5 | J13: =D13/$D$2 -> 0.5 | K13: =E13/$E$2 -> 0.5 | L13: =F13/$F$2 -> 0.5
A14: Less: Interest Expense | B14: 20000 | C14: 22000 | D14: 24200 | E14: 26620 | F14: 29282 | H14: =B14/$B$2 -> 0.1 | I14: =C14/$C$2 -> 0.1 | J14: =D14/$D$2 -> 0.1 | K14: =E14/$E$2 -> 0.1 | L14: =F14/$F$2 -> 0.1
A15: Profit Before Tax | B15: =B13-B14 -> 80000 | C15: =C13-C14 -> 88000 | D15: =D13-D14 -> 96800 | E15: =E13-E14 -> 106480 | F15: =F13-F14 -> 117128 | H15: =B15/$B$2 -> 0.4 | I15: =C15/$C$2 -> 0.4 | J15: =D15/$D$2 -> 0.4 | K15: =E15/$E$2 -> 0.4 | L15: =F15/$F$2 -> 0.4
A16: Less: Tax | B16: 12000 | C16: 13200 | D16: 14520 | E16: 15972 | F16: 17569.2 | H16: =B16/$B$2 -> 0.06 | I16: =C16/$C$2 -> 0.06 | J16: =D16/$D$2 -> 0.06 | K16: =E16/$E$2 -> 0.06 | L16: =F16/$F$2 -> 0.06
A17: Profit After Tax | B17: =B15-B16 -> 68000 | C17: =C15-C16 -> 74800 | D17: =D15-D16 -> 82280 | E17: =E15-E16 -> 90508 | F17: =F15-F16 -> 99558.8 | H17: =B17/$B$2 -> 0.34 | I17: =C17/$C$2 -> 0.34 | J17: =D17/$D$2 -> 0.34 | K17: =E17/$E$2 -> 0.34 | L17: =F17/$F$2 -> 0.34

Sheet Index Analysis - IS
A1: Income Statement | B1: 2014 | C1: 2015 | D1: 2016 | E1: 2017 | F1: 2018 | H1: 2014 | I1: 2015 | J1: 2016 | K1: 2017 | L1: 2018
A2: Net Sales | B2: 200000 | C2: 220000 | D2: 242000 | E2: 266200 | F2: 292820 | H2: =B2/B2 -> 1 | I2: =C2/B2 -> 1.1 | J2: =D2/B2 -> 1.21 | K2: =E2/B2 -> 1.331 | L2: =F2/B2 -> 1.4641
A3: Less: Cost of Goods Sold | B3: 100000 | C3: 110000 | D3: 121000 | E3: 133100 | F3: 146410 | H3: =B3/B3 -> 1 | I3: =C3/B3 -> 1.1 | J3: =D3/B3 -> 1.21 | K3: =E3/B3 -> 1.331 | L3: =F3/B3 -> 1.4641
A4: Gross Profit | B4: =B2-B3 -> 100000 | C4: =C2-C3 -> 110000 | D4: =D2-D3 -> 121000 | E4: =E2-E3 -> 133100 | F4: =F2-F3 -> 146410 | H4: =B4/B4 -> 1 | I4: =C4/B4 -> 1.1 | J4: =D4/B4 -> 1.21 | K4: =E4/B4 -> 1.331 | L4: =F4/B4 -> 1.4641
A5: Less: Operating Expenses | B5: ='Income Statement'!B5 -> 0
A6: Administrative Expenses | B6: 5000 | C6: 5500 | D6: 6050 | E6: 6655 | F6: 7320.5 | H6: =B6/B6 -> 1 | I6: =C6/B6 -> 1.1 | J6: =D6/B6 -> 1.21 | K6: =E6/B6 -> 1.331 | L6: =F6/B6 -> 1.4641
A7: Selling, Distribution & Marketing Expenses | B7: 5000 | C7: 5500 | D7: 6050 | E7: 6655 | F7: 7320.5 | H7: =B7/B7 -> 1 | I7: =C7/B7 -> 1.1 | J7: =D7/B7 -> 1.21 | K7: =E7/B7 -> 1.331 | L7: =F7/B7 -> 1.4641
A8: Depreciation Expense | B8: 5000 | C8: 5500 | D8: 6050 | E8: 6655 | F8: 7320.5 | H8: =B8/B8 -> 1 | I8: =C8/B8 -> 1.1 | J8: =D8/B8 -> 1.21 | K8: =E8/B8 -> 1.331 | L8: =F8/B8 -> 1.4641
A9: Rent Expense | B9: 4000 | C9: 4400 | D9: 4840 | E9: 5324 | F9: 5856.4 | H9: =B9/B9 -> 1 | I9: =C9/B9 -> 1.1 | J9: =D9/B9 -> 1.21 | K9: =E9/B9 -> 1.331 | L9: =F9/B9 -> 1.4641
A10: Other Expenses | B10: 1000 | C10: 1100 | D10: 1210 | E10: 1331 | F10: 1464.1 | H10: =B10/B10 -> 1 | I10: =C10/B10 -> 1.1 | J10: =D10/B10 -> 1.21 | K10: =E10/B10 -> 1.331 | L10: =F10/B10 -> 1.4641
A11: Total Operating Expenses | B11: =SUM(B6:B10) -> 20000 | C11: =SUM(C6:C10) -> 22000 | D11: =SUM(D6:D10) -> 24200 | E11: =SUM(E6:E10) -> 26620 | F11: =SUM(F6:F10) -> 29282 | H11: =B11/B11 -> 1 | I11: =C11/B11 -> 1.1 | J11: =D11/B11 -> 1.21 | K11: =E11/B11 -> 1.331 | L11: =F11/B11 -> 1.4641
A12: Other Income | B12: 20000 | C12: 22000 | D12: 24200 | E12: 26620 | F12: 29282 | H12: =B12/B12 -> 1 | I12: =C12/B12 -> 1.1 | J12: =D12/B12 -> 1.21 | K12: =E12/B12 -> 1.331 | L12: =F12/B12 -> 1.4641
A13: Operating Income | B13: =B4-B11+B12 -> 100000 | C13: =C4-C11+C12 -> 110000 | D13: =D4-D11+D12 -> 121000 | E13: =E4-E11+E12 -> 133100 | F13: =F4-F11+F12 -> 146410 | H13: =B13/B13 -> 1 | I13: =C13/B13 -> 1.1 | J13: =D13/B13 -> 1.21 | K13: =E13/B13 -> 1.331 | L13: =F13/B13 -> 1.4641
A14: Less: Interest Expense | B14: 20000 | C14: 22000 | D14: 24200 | E14: 26620 | F14: 29282 | H14: =B14/B14 -> 1 | I14: =C14/B14 -> 1.1 | J14: =D14/B14 -> 1.21 | K14: =E14/B14 -> 1.331 | L14: =F14/B14 -> 1.4641
A15: Profit Before Tax | B15: =B13-B14 -> 80000 | C15: =C13-C14 -> 88000 | D15: =D13-D14 -> 96800 | E15: =E13-E14 -> 106480 | F15: =F13-F14 -> 117128 | H15: =B15/B15 -> 1 | I15: =C15/B15 -> 1.1 | J15: =D15/B15 -> 1.21 | K15: =E15/B15 -> 1.331 | L15: =F15/B15 -> 1.4641
A16: Less: Tax | B16: 12000 | C16: 13200 | D16: 14520 | E16: 15972 | F16: 17569.2 | H16: =B16/B16 -> 1 | I16: =C16/B16 -> 1.1 | J16: =D16/B16 -> 1.21 | K16: =E16/B16 -> 1.331 | L16: =F16/B16 -> 1.4641
A17: Profit After Tax | B17: =B15-B16 -> 68000 | C17: =C15-C16 -> 74800 | D17: =D15-D16 -> 82280 | E17: =E15-E16 -> 90508 | F17: =F15-F16 -> 99558.8 | H17: =B17/B17 -> 1 | I17: =C17/B17 -> 1.1 | J17: =D17/B17 -> 1.21 | K17: =E17/B17 -> 1.331 | L17: =F17/B17 -> 1.4641

Sheet Stock Beta
A1: Month | B1: Stock Price | C1: KSE-100 Index | D1: Ri | E1: Rm
A2: 42216 | B2: 23 | C2: 35741.52
A3: 42247 | B3: 21 | C3: 34726.51 | D3: =(B3-B2)/B2 -> -0.086956522 | E3: =(C3-C2)/C2 -> -0.028398624
A4: 42277 | B4: 23 | C4: 32287.41 | D4: =(B4-B3)/B3 -> 0.095238095 | E4: =(C4-C3)/C3 -> -0.070237407
A5: 42307 | B5: 19 | C5: 34261.61 | D5: =(B5-B4)/B4 -> -0.17391304 | E5: =(C5-C4)/C4 -> 0.061144576
A6: 42338 | B6: 22 | C6: 32255.2 | D6: =(B6-B5)/B5 -> 0.15789474 | E6: =(C6-C5)/C5 -> -0.058561463
A7: 42369 | B7: 22 | C7: 32816.31 | D7: =(B7-B6)/B6 -> 0 | E7: =(C7-C6)/C6 -> 0.017395955
A8: 42398 | B8: 21 | C8: 31298.6 | D8: =(B8-B7)/B7 -> -0.045454545 | E8: =(C8-C7)/C7 -> -0.046248649
A9: 42429 | B9: 22 | C9: 31369.51 | D9: =(B9-B8)/B8 -> 0.047619048 | E9: =(C9-C8)/C8 -> 0.0022655965
A10: 42460 | B10: 20 | C10: 33139 | D10: =(B10-B9)/B9 -> -0.090909091 | E10: =(C10-C9)/C9 -> 0.056407958
A11: 42489 | B11: 23 | C11: 34719.29 | D11: =(B11-B10)/B10 -> 0.15 | E11: =(C11-C10)/C10 -> 0.047686714
A12: 42521 | B12: 22 | C12: 36061.56 | D12: =(B12-B11)/B11 -> -0.043478261 | E12: =(C12-C11)/C11 -> 0.038660641
A13: 42551 | B13: 20 | C13: 37783.54 | D13: =(B13-B12)/B12 -> -0.090909091 | E13: =(C13-C12)/C12 -> 0.047751123
A14: 42581 | B14: 22 | C14: 39528.82 | D14: =(B14-B13)/B13 -> 0.1 | E14: =(C14-C13)/C13 -> 0.046191543
... A61: 44012 | B61: 22 | C61: 34421.92 | D61: =(B61-B60)/B60 -> 0 | E61: =(C61-C60)/C60 -> 0.014461309
A64: Stock Beta | B64: =SLOPE(D3:D61,E3:E61) -> 0.22174517
A65: Rm - Annual | B65: ='Annual Return on Market - Rm'!C13 -> 0.21379365
A66: Rf | B66: 0.07
A68: RRR - CAPM | B68: =B66+(B64*(B65-B66)) -> 0.10188555

Sheet Annual Return on Market - Rm
A1: Date | B1: KSE-100 | C1: Rm
A2: 40907 | B2: 11347.66
A3: 41274 | B3: 16905.33 | C3: =(B3-B2)/B2 -> 0.48976353
A4: 41639 | B4: 25261.14 | C4: =(B4-B3)/B3 -> 0.49427074
A5: 42004 | B5: 32131.28 | C5: =(B5-B4)/B4 -> 0.27196476
A6: 42369 | B6: 32816.31 | C6: =(B6-B5)/B5 -> 0.021319723
A7: 42734 | B7: 47806.97 | C7: =(B7-B6)/B6 -> 0.45680517
A8: 43098 | B8: 40471.48 | C8: =(B8-B7)/B7 -> -0.15343976
A9: 43465 | B9: 37066.67 | C9: =(B9-B8)/B8 -> -0.084128626
A10: 43830 | B10: 40735.08 | C10: =(B10-B9)/B9 -> 0.098967887
A11: 44196 | B11: 43755.38 | C11: =(B11-B10)/B10 -> 0.074144938
A13: Average Rm | C13: =AVERAGE(C2:C9) -> 0.21379365

Sheet Expansion Project Valuation
A1: Input Figures | B1: Amount in Actual
A2: Property, Plant & Equipment | B2: 1000000000
A3: Current NWC | B3: 10000000
A4: Average Growth in PAT in 5 Years (%) | B4: 5
A5: Expansion in FA (Growth) (%) | B5: 100
A6: Growth in NWC | B6: 50
A7: Discount Rate | B7: 10
A8: Reinvestment Rate | B8: 10
A10: Initial Cash Outflow
A11: Investment in FA | B11: =B2*(B5/100) -> 1000000000
A12: Investment in NWC | B12: =B3*(B6/100) -> 5000000
A13: Initial Cash Outflow | B13: =B11+B12 -> 1005000000
A15: EBITDA Per Year | B15: 200000000
A17: Period / Year | C17: PV | D17: Cumulative CF | E17: Cumulative PV of CF
A18: 0 | B18: =-B13 -> -1005000000 | C18: =B18/((1+$B$7)^A18) -> -1005000000 | D18: =SUM(B$18:B18) -> -1005000000 | E18: =SUM(C$18:C18) -> -1005000000
A19: 1 | B19: =$B$15*1 -> 200000000 | C19: =B19/((1+($B$7/100))^A19) -> 1.8181818e+08 | D19: =SUM(B$18:B19) -> -805000000 | E19: =SUM(C$18:C19) -> -8.2318182e+08
A20: 2 | B20: =B19*(1+($B$4/100)) -> 210000000 | C20: =B20/((1+($B$7/100))^A20) -> 1.7355372e+08 | D20: =SUM(B$18:B20) -> -595000000 | E20: =SUM(C$18:C20) -> -6.496281e+08
A21: 3 | B21: =B20*(1+($B$4/100)) -> 220500000 | C21: =B21/((1+($B$7/100))^A21) -> 1.6566491e+08 | D21: =SUM(B$18:B21) -> -374500000 | E21: =SUM(C$18:C21) -> -4.8396319e+08
A22: 4 | B22: =B21*(1+($B$4/100)) -> 231525000 | C22: =B22/((1+($B$7/100))^A22) -> 1.5813469e+08 | D22: =SUM(B$18:B22) -> -142975000 | E22: =SUM(C$18:C22) -> -3.258285e+08
A23: 5 | B23: =B22*(1+($B$4/100)) -> 243101250 | C23: =B23/((1+($B$7/100))^A23) -> 1.5094675e+08 | D23: =SUM(B$18:B23) -> 100126250 | E23: =SUM(C$18:C23) -> -1.7488175e+08
A24: 6 | B24: =B23*(1+($B$4/100)) -> 2.5525631e+08 | C24: =B24/((1+($B$7/100))^A24) -> 1.4408553e+08 | D24: =SUM(B$18:B24) -> 3.5538256e+08 | E24: =SUM(C$18:C24) -> -30796212
A25: 7 | B25: =B24*(1+($B$4/100)) -> 2.6801913e+08 | C25: =B25/((1+($B$7/100))^A25) -> 1.3753619e+08 | D25: =SUM(B$18:B25) -> 6.2340169e+08 | E25: =SUM(C$18:C25) -> 1.0673998e+08
A26: 8 | B26: =B25*(1+($B$4/100)) -> 2.8142008e+08 | C26: =B26/((1+($B$7/100))^A26) -> 1.3128455e+08 | D26: =SUM(B$18:B26) -> 9.0482178e+08 | E26: =SUM(C$18:C26) -> 2.3802453e+08
A27: 9 | B27: =B26*(1+($B$4/100)) -> 2.9549109e+08 | C27: =B27/((1+($B$7/100))^A27) -> 1.2531707e+08 | D27: =SUM(B$18:B27) -> 1.2003129e+09 | E27: =SUM(C$18:C27) -> 3.6334159e+08
A28: 10 | B28: =B27*(1+($B$4/100))+B12 -> 3.1526564e+08 | C28: =B28/((1+($B$7/100))^A28) -> 1.2154855e+08 | D28: =SUM(B$18:B28) -> 1.5155785e+09 | E28: =SUM(C$18:C28) -> 4.8489015e+08
A30: Payback Period | B30: =COUNTIF(D19:D28,"<" &0)+ABS(INDEX(D18:D28,COUNTIF(D18:D28,"<" &0))/INDEX(B18:B28,COUNTIF(D18:D28,"<" &0)+1)) -> 4.5881294
A31: Discounted Payback Period | B31: =COUNTIF(E19:E28,"<" &0)+ABS(INDEX(E18:E28,COUNTIF(E18:E28,"<" &0))/INDEX(C18:C28,COUNTIF(E18:E28,"<" &0)+1)) -> 6.2239135
A32: NPV | B32: =B18+NPV(B7/100,B19:B28) -> 4.8489015e+08
A33: IRR | B33: =IRR(B18:B28) -> 0.1941523
A34: MIRR | B34: =MIRR(B18:B28,B7/100,B8/100) -> 0.1441725
A35: PV of Outflows | B35: =C18 -> -1005000000
A36: PV of Inflows | B36: =SUM(C19:C28) -> 1.4898901e+09
A37: Profitability Index | B37: =B36/(ABS(B35)) -> 1.4824778

Sheet Amortization Schedule
C1: Annual Amortization | G1: Monthly Amortization
A2: Peiord | B2: Installment | C2: Mark-up | D2: Principal Repayment | E2: Loan Balance | G2: Peiord | H2: Installment | I2: Mark-up | J2: Principal Repayment | K2: Loan Balance
A3: 0 | E3: =ABS('Expansion Project Valuation'!B18) -> 1005000000 | G3: 0 | K3: =ABS('Expansion Project Valuation'!B18) -> 1005000000
A4: 1 | B4: =ABS($B$16) -> 1.5423642e+08 | C4: =E3*'Price Multiples'!$B$41 -> 86993312 | D4: =B4-C4 -> 67243105 | E4: =E3-D4 -> 9.3775689e+08 | G4: 1 | H4: =ABS($H$126) -> 12544596 | I4: =K3*('Price Multiples'!$B$41/12) -> 7249442.7 | J4: =H4-I4 -> 5295153.1 | K4: =K3-J4 -> 9.9970485e+08
A5: 2 | B5: =ABS($B$16) -> 1.5423642e+08 | C5: =E4*'Price Multiples'!$B$41 -> 81172715 | D5: =B5-C5 -> 73063703 | E5: =E4-D5 -> 8.6469319e+08 | G5: 2 | H5: =ABS($H$126) -> 12544596 | I5: =K4*('Price Multiples'!$B$41/12) -> 7211246.7 | J5: =H5-I5 -> 5333349.1 | K5: =K4-J5 -> 9.943715e+08
A6: 3 | B6: =ABS($B$16) -> 1.5423642e+08 | C6: =E5*'Price Multiples'!$B$41 -> 74848283 | D6: =B6-C6 -> 79388134 | E6: =E5-D6 -> 7.8530506e+08 | G6: 3 | H6: =ABS($H$126) -> 12544596 | I6: =K5*('Price Multiples'!$B$41/12) -> 7172775.3 | J6: =H6-I6 -> 5371820.5 | K6: =K5-J6 -> 9.8899968e+08
A7: 4 | B7: =ABS($B$16) -> 1.5423642e+08 | C7: =E6*'Price Multiples'!$B$41 -> 67976406 | D7: =B7-C7 -> 86260011 | E7: =E6-D7 -> 6.9904505e+08 | G7: 4 | H7: =ABS($H$126) -> 12544596 | I7: =K6*('Price Multiples'!$B$41/12) -> 7134026.3 | J7: =H7-I7 -> 5410569.5 | K7: =K6-J7 -> 9.8358911e+08
A8: 5 | B8: =ABS($B$16) -> 1.5423642e+08 | C8: =E7*'Price Multiples'!$B$41 -> 60509695 | D8: =B8-C8 -> 93726722 | E8: =E7-D8 -> 6.0531832e+08 | G8: 5 | H8: =ABS($H$126) -> 12544596 | I8: =K7*('Price Multiples'!$B$41/12) -> 7094997.9 | J8: =H8-I8 -> 5449597.9 | K8: =K7-J8 -> 9.7813951e+08
A9: 6 | B9: =ABS($B$16) -> 1.5423642e+08 | C9: =E8*'Price Multiples'!$B$41 -> 52396663 | D9: =B9-C9 -> 1.0183975e+08 | E9: =E8-D9 -> 5.0347857e+08 | G9: 6 | H9: =ABS($H$126) -> 12544596 | I9: =K8*('Price Multiples'!$B$41/12) -> 7055687.9 | J9: =H9-I9 -> 5488907.9 | K9: =K8-J9 -> 9.726506e+08
A10: 7 | B10: =ABS($B$16) -> 1.5423642e+08 | C10: =E9*'Price Multiples'!$B$41 -> 43581362 | D10: =B10-C10 -> 1.1065506e+08 | E10: =E9-D10 -> 3.9282351e+08 | G10: 7 | H10: =ABS($H$126) -> 12544596 | I10: =K9*('Price Multiples'!$B$41/12) -> 7016094.3 | J10: =H10-I10 -> 5528501.5 | K10: =K9-J10 -> 9.671221e+08
A11: 8 | B11: =ABS($B$16) -> 1.5423642e+08 | C11: =E10*'Price Multiples'!$B$41 -> 34003004 | D11: =B11-C11 -> 1.2023341e+08 | E11: =E10-D11 -> 2.725901e+08 | G11: 8 | H11: =ABS($H$126) -> 12544596 | I11: =K10*('Price Multiples'!$B$41/12) -> 6976215.2 | J11: =H11-I11 -> 5568380.7 | K11: =K10-J11 -> 9.6155372e+08
A12: 9 | B12: =ABS($B$16) -> 1.5423642e+08 | C12: =E11*'Price Multiples'!$B$41 -> 23595538 | D12: =B12-C12 -> 1.3064088e+08 | E12: =E11-D12 -> 1.4194922e+08 | G12: 9 | H12: =ABS($H$126) -> 12544596 | I12: =K11*('Price Multiples'!$B$41/12) -> 6936048.3 | J12: =H12-I12 -> 5608547.5 | K12: =K11-J12 -> 9.5594517e+08
A13: 10 | B13: =ABS($B$16) -> 1.5423642e+08 | C13: =E12*'Price Multiples'!$B$41 -> 12287197 | D13: =B13-C13 -> 1.4194922e+08 | E13: =E12-D13 -> 0 | G13: 10 | H13: =ABS($H$126) -> 12544596 | I13: =K12*('Price Multiples'!$B$41/12) -> 6895591.8 | J13: =H13-I13 -> 5649004 | K13: =K12-J13 -> 9.5029617e+08
A14: Total | B14: =SUM(B4:B8) -> 7.7118209e+08 | C14: =SUM(C4:C8) -> 3.7150041e+08 | D14: =SUM(D4:D8) -> 3.9968168e+08 | G14: 11 | H14: =ABS($H$126) -> 12544596 | I14: =K13*('Price Multiples'!$B$41/12) -> 6854843.4 | J14: =H14-I14 -> 5689752.4 | K14: =K13-J14 -> 9.4460642e+08
G15: 12 | H15: =ABS($H$126) -> 12544596 | I15: =K14*('Price Multiples'!$B$41/12) -> 6813801.1 | J15: =H15-I15 -> 5730794.8 | K15: =K14-J15 -> 9.3887562e+08
A16: Installment Per Year | B16: =PMT('Price Multiples'!B41,10,E3) -> -1.5423642e+08 | G16: 13 | H16: =ABS($H$126) -> 12544596 | I16: =K15*('Price Multiples'!$B$41/12) -> 6772462.7 | J16: =H16-I16 -> 5772133.1 | K16: =K15-J16 -> 9.3310349e+08
G17: 14 | H17: =ABS($H$126) -> 12544596 | I17: =K16*('Price Multiples'!$B$41/12) -> 6730826.1 | J17: =H17-I17 -> 5813769.7 | K17: =K16-J17 -> 9.2728972e+08
G18: 15 | H18: =ABS($H$126) -> 12544596 | I18: =K17*('Price Multiples'!$B$41/12) -> 6688889.2 | J18: =H18-I18 -> 5855706.6 | K18: =K17-J18 -> 9.2143401e+08
G19: 16 | H19: =ABS($H$126) -> 12544596 | I19: =K18*('Price Multiples'!$B$41/12) -> 6646649.8 | J19: =H19-I19 -> 5897946 | K19: =K18-J19 -> 9.1553607e+08
G20: 17 | H20: =ABS($H$126) -> 12544596 | I20: =K19*('Price Multiples'!$B$41/12) -> 6604105.7 | J20: =H20-I20 -> 5940490.1 | K20: =K19-J20 -> 9.0959558e+08
G21: 18 | H21: =ABS($H$126) -> 12544596 | I21: =K20*('Price Multiples'!$B$41/12) -> 6561254.7 | J21: =H21-I21 -> 5983341.1 | K21: =K20-J21 -> 9.0361223e+08
G22: 19 | H22: =ABS($H$126) -> 12544596 | I22: =K21*('Price Multiples'!$B$41/12) -> 6518094.6 | J22: =H22-I22 -> 6026501.2 | K22: =K21-J22 -> 8.9758573e+08
G23: 20 | H23: =ABS($H$126) -> 12544596 | I23: =K22*('Price Multiples'!$B$41/12) -> 6474623.2 | J23: =H23-I23 -> 6069972.6 | K23: =K22-J23 -> 8.9151576e+08
G24: 21 | H24: =ABS($H$126) -> 12544596 | I24: =K23*('Price Multiples'!$B$41/12) -> 6430838.2 | J24: =H24-I24 -> 6113757.6 | K24: =K23-J24 -> 8.85402e+08
G25: 22 | H25: =ABS($H$126) -> 12544596 | I25: =K24*('Price Multiples'!$B$41/12) -> 6386737.4 | J25: =H25-I25 -> 6157858.4 | K25: =K24-J25 -> 8.7924414e+08
G26: 23 | H26: =ABS($H$126) -> 12544596 | I26: =K25*('Price Multiples'!$B$41/12) -> 6342318.4 | J26: =H26-I26 -> 6202277.4 | K26: =K25-J26 -> 8.7304187e+08
G27: 24 | H27: =ABS($H$126) -> 12544596 | I27: =K26*('Price Multiples'!$B$41/12) -> 6297579.1 | J27: =H27-I27 -> 6247016.7 | K27: =K26-J27 -> 8.6679485e+08
G28: 25 | H28: =ABS($H$126) -> 12544596 | I28: =K27*('Price Multiples'!$B$41/12) -> 6252517 | J28: =H28-I28 -> 6292078.8 | K28: =K27-J28 -> 8.6050277e+08
... G103: 100 | H103: =ABS($H$126) -> 12544596 | I103: =K102*('Price Multiples'!$B$41/12) -> 1757476.1 | J103: =H103-I103 -> 10787120 | K103: =K102-J103 -> 2.3285416e+08
G104: =G103+1 -> 101 | H104: =ABS($H$126) -> 12544596 | I104: =K103*('Price Multiples'!$B$41/12) -> 1679664.6 | J104: =H104-I104 -> 10864931 | K104: =K103-J104 -> 2.2198923e+08
G105: =G104+1 -> 102 | H105: =ABS($H$126) -> 12544596 | I105: =K104*('Price Multiples'!$B$41/12) -> 1601291.8 | J105: =H105-I105 -> 10943304 | K105: =K104-J105 -> 2.1104593e+08
G106: =G105+1 -> 103 | H106: =ABS($H$126) -> 12544596 | I106: =K105*('Price Multiples'!$B$41/12) -> 1522353.6 | J106: =H106-I106 -> 11022242 | K106: =K105-J106 -> 2.0002369e+08
G107: =G106+1 -> 104 | H107: =ABS($H$126) -> 12544596 | I107: =K106*('Price Multiples'!$B$41/12) -> 1442846 | J107: =H107-I107 -> 11101750 | K107: =K106-J107 -> 1.8892194e+08
G108: =G107+1 -> 105 | H108: =ABS($H$126) -> 12544596 | I108: =K107*('Price Multiples'!$B$41/12) -> 1362764.9 | J108: =H108-I108 -> 11181831 | K108: =K107-J108 -> 1.7774011e+08
G109: =G108+1 -> 106 | H109: =ABS($H$126) -> 12544596 | I109: =K108*('Price Multiples'!$B$41/12) -> 1282106.2 | J109: =H109-I109 -> 11262490 | K109: =K108-J109 -> 1.6647762e+08
G110: =G109+1 -> 107 | H110: =ABS($H$126) -> 12544596 | I110: =K109*('Price Multiples'!$B$41/12) -> 1200865.6 | J110: =H110-I110 -> 11343730 | K110: =K109-J110 -> 1.5513389e+08
G111: =G110+1 -> 108 | H111: =ABS($H$126) -> 12544596 | I111: =K110*('Price Multiples'!$B$41/12) -> 1119039 | J111: =H111-I111 -> 11425557 | K111: =K110-J111 -> 1.4370833e+08
G112: =G111+1 -> 109 | H112: =ABS($H$126) -> 12544596 | I112: =K111*('Price Multiples'!$B$41/12) -> 1036622.2 | J112: =H112-I112 -> 11507974 | K112: =K111-J112 -> 1.3220036e+08
G113: =G112+1 -> 110 | H113: =ABS($H$126) -> 12544596 | I113: =K112*('Price Multiples'!$B$41/12) -> 953610.84 | J113: =H113-I113 -> 11590985 | K113: =K112-J113 -> 1.2060937e+08
G114: =G113+1 -> 111 | H114: =ABS($H$126) -> 12544596 | I114: =K113*('Price Multiples'!$B$41/12) -> 870000.71 | J114: =H114-I114 -> 11674595 | K114: =K113-J114 -> 1.0893478e+08
...

Sheet Target Price
A1: DDM | E1: RRR - CAPM | H1: Using P/E Multiple | K1: Benjamin Garaham Formula | N1: Residual Income Approach
A2: DPS | B2: ='Price Multiples'!B11 -> 1 | E2: Rf | F2: ='Price Multiples'!B37 -> 0.07 | H2: P/E Expected | I2: 15 | K2: EPS | L2: ='Price Multiples'!B18 -> 1.1333333 | N2: Book Value | O2: ='Price Multiples'!B45 -> 800000000
A3: WACC | B3: ='Price Multiples'!B41 -> 0.08656051 | E3: Beta | F3: ='Stock Beta'!B64 -> 0.22174517 | H3: EPS Expected | I3: 1 | K3: BVPS | L3: ='Price Multiples'!B22 -> 13.333333 | N3: Residual Income Currently | O3: ='Price Multiples'!B54 -> 16063694
A4: g | B4: ='Price Multiples'!B13 -> 0.01 | E4: Rm | F4: ='Annual Return on Market - Rm'!C13 -> 0.21379365 | H4: Intrinsic Value | I4: =I3*I2 -> 15 | K4: Intrinsic Value | L4: =SQRT(15*1.5*(L3*L2)) -> 18.439089 | N4: PV of All Residual Incomes | O4: =O3/('Price Multiples'!B38-L40) -> 2.2346209e+08
E5: RRR | F5: =F2+(F3*(F4-F2)) -> 0.10188555 | N5: Value of a Firm | O5: =O2+O4 -> 1.0234621e+09
A6: Po | B6: =B2/(B3-B4) -> 13.061564 | E6: Current Price | F6: ='Price Multiples'!B2 -> 20 | N6: No. of Shares Outstanding | O6: ='Price Multiples'!B3 -> 60000000
A7: Current Price | B7: ='Price Multiples'!B2 -> 20 | E7: P1 | F7: =F6*(1+F5) -> 22.037711 | N7: Fair Value of Per Share | O7: =O5/O6 -> 17.057701
A9: Valuation | B9: =IF(B6>B7,"Undervalued","Overvalued") -> Overvalued
A11: DDM | E11: Walter's Model | H11: FCF Model with Constant Growth | K11: FCF Model with Non Constant Growth
A12: DPS | B12: ='Price Multiples'!B11 -> 1 | E12: EPS | F12: ='Price Multiples'!B18 -> 1.1333333 | H12: EBIT | I12: ='Income Statement'!B13*1000 -> 100000000 | K12: EBIT | L12: =I12 -> 100000000
A13: WACC | B13: ='Price Multiples'!B41 -> 0.08656051 | E13: DPS | F13: ='Price Multiples'!B11 -> 1 | H13: Tax Rate t | I13: 0.3 | K13: Tax Rate t | L13: =I13 -> 0.3
A14: g1 | B14: ='Price Multiples'!B12 -> 0.05 | E14: ROE | F14: ='Ratio Analysis'!B38 -> 0.085 | H14: Depreciation | I14: ='Income Statement'!B8*1000 -> 5000000 | K14: Depreciation | L14: =I14 -> 5000000
A15: g2 | B15: ='Price Multiples'!B13 -> 0.01 | E15: WACC | F15: ='Price Multiples'!B41 -> 0.08656051 | H15: WCInv | K15: WCInv
A16: Growth 1 Period | B16: 5 | H16: NWC in Current Period | I16: =('Balance Sheet'!B13-'Balance Sheet'!B33)*1000 -> 250000000 | K16: NWC in Current Period | L16: =I16 -> 250000000
A17: Years in Period 1 | B17: Dividends | C17: PV of Dividends | H17: NWC in Previous Period | I17: =I16 -> 250000000 | K17: NWC in Previous Period | L17: =I17 -> 250000000
A18: 1 | B18: =$B$12*(1+$B$14)^A18 -> 1.05 | C18: =B18/(1+$B$13)^A18 -> 0.96635207 | E18: Po | F18: =(F13/F15)+(((F12-F13)*(F14/F15))/F15) -> 13.065191 | H18: WcInv | I18: =I16-I17 -> 0 | K18: WcInv | L18: =L16-L17 -> 0
A19: 2 | B19: =$B$12*(1+$B$14)^A19 -> 1.1025 | C19: =B19/(1+$B$13)^A19 -> 0.93383633 | E19: Current Price | F19: ='Price Multiples'!B2 -> 20 | H19: FCInv (Change in PPE) | K19: FCInv (Change in PPE)
A20: 3 | B20: =$B$12*(1+$B$14)^A20 -> 1.157625 | C20: =B20/(1+$B$13)^A20 -> 0.90241467 | E20: Valuation | F20: =IF(F18>F19,"Undervalued","Overvalued") -> Overvalued | H20: PPE Current | I20: =('Balance Sheet'!B15+'Balance Sheet'!B16+'Balance Sheet'!B17)*1000 -> 600000000 | K20: PPE Current | L20: =I20 -> 600000000
A21: 4 | B21: =$B$12*(1+$B$14)^A21 -> 1.2155063 | C21: =B21/(1+$B$13)^A21 -> 0.87205029 | H21: PPE Previous | I21: =I20 -> 600000000 | K21: PPE Previous | L21: =I21 -> 600000000
A22: 5 | B22: =$B$12*(1+$B$14)^A22 -> 1.2762816 | C22: =B22/(1+$B$13)^A22 -> 0.8427076 | H22: FCInv | I22: =I20-I21+I14 -> 5000000 | K22: FCInv | L22: =L20-L21+L14 -> 5000000
A23: Sum of PV of Dividends | C23: =SUM(C18:C22) -> 4.517361
A24: Dividend in Beginning of Next Phase | B24: =B22*(1+B15) -> 1.2890444 | H24: FCFF | I24: =(I12*(1-I13))+I14-I18-I22 -> 70000000 | K24: FCFF | L24: =(L12*(1-L13))+L14-L18-L22 -> 70000000
A25: V5 | B25: =B24/(B13-B15) -> 16.836936 | C25: =B25/(1+B13)^(A22) -> 11.11715 | H25: Net Borrowing | K25: Net Borrowing
A26: P0 | C26: =C25+C23 -> 15.634511 | H26: Total Debt in Current Period | I26: ='Balance Sheet'!B39*1000 -> 770000000 | K26: Total Debt in Current Period | L26: =I26 -> 770000000
A27: Current Price | C27: ='Price Multiples'!B2 -> 20 | H27: Total Debt in Previous Period | I27: =I26 -> 770000000 | K27: Total Debt in Previous Period | L27: =I27 -> 770000000
A28: Valuation | C28: =IF(C26>C27,"Undervalued","Overvalued") -> Overvalued | H28: Net Borrowing | I28: =I26-I27 -> 0 | K28: Net Borrowing | L28: =L26-L27 -> 0
H29: FCFE | I29: =I24-(('Income Statement'!B14*1000)*('Target Price'!I13))+I28 -> 64000000 | K29: FCFE | L29: =L24-(('Income Statement'!B14*1000)*('Target Price'!I13))+L28 -> 64000000
H30: Number of Shares Outstanding | I30: ='Price Multiples'!B3 -> 60000000 | K30: Period 1 Assumptions
K31: g1 | L31: 0.05
H32: Equity Value at Constant g from FCFE | I32: =I29/('Price Multiples'!B38-'Price Multiples'!B13) -> 6.9651868e+08 | K32: Years | L32: FCFE | M32: PV
K33: 1 | L33: =$L$29*(1+$L$31)^K33 -> 67200000 | M33: =L33/(1+'Price Multiples'!$B$38)^K33 -> 60986370
H34: Intrinsic Value Per Share | I34: =I32/I30 -> 11.608645 | K34: 2 | L34: =$L$29*(1+$L$31)^K34 -> 70560000 | M34: =L34/(1+'Price Multiples'!$B$38)^K34 -> 58114646
K35: 3 | L35: =$L$29*(1+$L$31)^K35 -> 74088000 | M35: =L35/(1+'Price Multiples'!$B$38)^K35 -> 55378146
K36: 4 | L36: =$L$29*(1+$L$31)^K36 -> 77792400 | M36: =L36/(1+'Price Multiples'!$B$38)^K36 -> 52770502
K37: 5 | L37: =$L$29*(1+$L$31)^K37 -> 81682020 | M37: =L37/(1+'Price Multiples'!$B$38)^K37 -> 50285646
K38: Sum of PV of FCFE in Period 1 | M38: =SUM(M33:M37) -> 2.7753531e+08
K39: Period 2 Assumptions
K40: g2 | L40: 0.03
K41: FCFE in Beginning of Next Phase | L41: =L37*(1+L40) -> 84132481
K42: Terimal FCFE | L42: =L41/('Price Multiples'!B38-L40) -> 1.1703671e+09 | M42: =L42/(1+$B$13)^K37 -> 7.7277405e+08
...

Sheet AFN
A1: Data | B1: Value in 000s
A2: Sales Value | B2: ='Income Statement'!B2 -> 200000
A3: Growth in Sales (%) | B3: 10
A4: Projected Sales Value | B4: =B2*(1+(B3/100)) -> 220000
A5: Change in Sales | B5: =B4-B2 -> 20000
A7: Sales Sensitive Assets Value | B7: ='Balance Sheet'!B4+'Balance Sheet'!B5+'Balance Sheet'!B6+'Balance Sheet'!B11 -> 300000
A8: Sales Sensitive Liabilities Value | B8: ='Balance Sheet'!B27+'Balance Sheet'!B28+'Balance Sheet'!B29 -> 250000
A10: Profit Margin (%) | B10: =('Ratio Analysis'!B36)*100 -> 34
A11: Retention Rate (%) | B11: =(1-'Price Multiples'!B20)*100 -> 11.764706
A13: Required Increase in Assets | B13: =(B7/B2)*B5 -> 30000
A14: Increase in Spontaneous Liabilities | B14: =(B8/B2)*B5 -> 25000
A15: Increase in Retained Earnings | B15: =B4*(B10/100)*(B11/100) -> 8800
A17: Additional Funds Needed (AFN) | B17: =((B7/B2)*B5)-((B8/B2)*B5)-(B4*(B10/100)*(B11/100)) -> -3800

Sheet Sheet1
A1: Month | B1: Price
A2: 42216 | B2: 152.23
A3: 42247 | B3: 144.98
A4: 42277 | B4: 137.02
A5: 42307 | B5: 140.73
A6: 42338 | B6: 127.8
A7: 42369 | B7: 147.59
A8: 42398 | B8: 158.57
A9: 42429 | B9: 156.39
A10: 42460 | B10: 173.82
A11: 42489 | B11: 174.65
A12: 42521 | B12: 178.38
A13: 42551 | B13: 190.49
... A61: 44012 | B61: 85.33
